BEGIN:VCALENDAR
VERSION:2.0
PRODID:-//The London Clean Air Initiative - ECPv6.15.20//NONSGML v1.0//EN
CALSCALE:GREGORIAN
METHOD:PUBLISH
X-WR-CALNAME:The London Clean Air Initiative
X-ORIGINAL-URL:https://thelondoncleanairinitiative.org
X-WR-CALDESC:Events for The London Clean Air Initiative
REFRESH-INTERVAL;VALUE=DURATION:PT1H
X-Robots-Tag:noindex
X-PUBLISHED-TTL:PT1H
BEGIN:VTIMEZONE
TZID:Europe/London
BEGIN:DAYLIGHT
TZOFFSETFROM:+0000
TZOFFSETTO:+0100
TZNAME:BST
DTSTART:20250330T010000
END:DAYLIGHT
BEGIN:STANDARD
TZOFFSETFROM:+0100
TZOFFSETTO:+0000
TZNAME:GMT
DTSTART:20251026T010000
END:STANDARD
BEGIN:DAYLIGHT
TZOFFSETFROM:+0000
TZOFFSETTO:+0100
TZNAME:BST
DTSTART:20260329T010000
END:DAYLIGHT
BEGIN:STANDARD
TZOFFSETFROM:+0100
TZOFFSETTO:+0000
TZNAME:GMT
DTSTART:20261025T010000
END:STANDARD
BEGIN:DAYLIGHT
TZOFFSETFROM:+0000
TZOFFSETTO:+0100
TZNAME:BST
DTSTART:20270328T010000
END:DAYLIGHT
BEGIN:STANDARD
TZOFFSETFROM:+0100
TZOFFSETTO:+0000
TZNAME:GMT
DTSTART:20271031T010000
END:STANDARD
END:VTIMEZONE
BEGIN:VEVENT
DTSTART;TZID=Europe/London:20260626T100000
DTEND;TZID=Europe/London:20260626T160000
DTSTAMP:20260420T131125
CREATED:20260319T194024Z
LAST-MODIFIED:20260319T194024Z
UID:23549-1782468000-1782489600@thelondoncleanairinitiative.org
SUMMARY:The Green Futures Event - 26 June 2026
DESCRIPTION:Green Futures Event – 26 June 2026\nOur Green Futures Events are designed to introduce young people aged 16+ and and jobseekers aged 18+ to green careers spanning renewable energy\, construction\, sustainable finance and transport\, infrastructure\, architecture\, conservation\, waste and recycling\, environmental law\, sustainable fashion\, climate activism\, and many other green careers. \nThe events revolve around a green career fair where students and jobseekers can meet organisations\, along with talks and workshops about CV writing\, upskilling\, air quality and many of the other areas of sustainability described above. \nOur Green Futures Events offer attendees an invaluable opportunity to explore careers within the\nsustainability sector\, sparking interest in roles that directly contribute to a healthier planet. As we push toward net-zero goals\, demand for “green skills” is rapidly increasing. However\, because green jobs are often absent from traditional curricula\, people may miss the chance to understand or even imagine\nthemselves in these future-focused roles. \nWe aim to bridge this gap\, giving our attendees not only the opportunity to meet real employers\, but a clear pathway to upskilling through work further education courses\, bootcamps\, work experiences\, internships and apprenticeship\, all the way to real jobs. \n  \n\nThere are 3 Parts to a Green Futures Event\n\n\n\n\n\n\n\n\nGreen Career Fair\n\n\n\n\nOur Career Fairs are an avenue for students to specifically hear from a range of sustainable businesses about what they do\, the technology or processes they may be developing\, the future career opportunities they might offer\, and the many new jobs that exist in sustainability. \n\n\n\n\n\n\n\n\nIndustry Talks\n\n\n\n\nThe event offers talks from industry experts on specific topics and career paths that are attended by those students who have a particular interest in those career pathways. These are generally delivered by professionals who are already employed in those specific fields/careers. \n\n\n\n\n\n\n\n\nWorkshops\n\n\n\n\nThe event also offers interactive workshops demonstrating the types of skills and problem-solving demonstrated in various green career pathways. These serve as a great avenue for an organisation to engage more directly with a small group of students at a time through hands-on experiences.\n\n\n\n\n\n\n\n\n\n\nPrevious Speakers\n\n\n\n\n\n\n\n\n\n\n\n\n\n\n\n\n“It was a real pleasure to be part of such an inspiring day and to see so many young people engaging with the future of our city. The energy\, curiosity\, and ambition in the room were brilliant – a real credit to the hard work that you and your team have put into creating such a meaningful platform. The numbers you shared are fantastic and speak volumes. Thank you again for everything you’re doing for young people in London. I look forward to staying in touch and continuing to work together to make sure their voices are heard in shaping our city’s future.”\n\n\n\n\n\n\n\n\n\n\n\n\n\n\n\n\nMete Coban MBE\nDeputy Mayor of London for Environment and Energy\n\n\n\n\n\n\n\n\n 
URL:https://thelondoncleanairinitiative.org/event/the-green-futures-event-26-june-2026/
LOCATION:Aga Khan Centre\, 10 Handyside Street\, London\, N1C 4DN\, United Kingdom
END:VEVENT
END:VCALENDAR